BEGIN:VCALENDAR
VERSION:2.0
PRODID:-//Amazing Learning - ECPv5.4.0//NONSGML v1.0//EN
CALSCALE:GREGORIAN
METHOD:PUBLISH
X-WR-CALNAME:Amazing Learning
X-ORIGINAL-URL:https://amazinglearning.com.au
X-WR-CALDESC:Events for Amazing Learning
BEGIN:VTIMEZONE
TZID:Australia/Melbourne
BEGIN:STANDARD
TZOFFSETFROM:+1100
TZOFFSETTO:+1000
TZNAME:AEST
DTSTART:20180331T160000
END:STANDARD
BEGIN:DAYLIGHT
TZOFFSETFROM:+1000
TZOFFSETTO:+1100
TZNAME:AEDT
DTSTART:20181006T160000
END:DAYLIGHT
END:VTIMEZONE
BEGIN:VEVENT
DTSTART;TZID=Australia/Melbourne:20181129T100000
DTEND;TZID=Australia/Melbourne:20181129T120000
DTSTAMP:20210227T024249
CREATED:20181122T024431Z
LAST-MODIFIED:20181122T024431Z
UID:231-1543485600-1543492800@amazinglearning.com.au
SUMMARY:OBSERVATION WALK THE WORLD AROUND US
DESCRIPTION:VISIT THE FASCINATING WORLD OF NATURE\nIT IS RIGHT IN FRONT OF YOUR EYES\n• Can you find signs of something that is no longer there?\n• Can you see something hiding inside something else?\n• How are leaves the same? How are they different?\n• Can you find something smooth on one side and rough\non the other side?\n• Can you find something with six legs?\n• Can you find something\nwith no legs? \nPlease enable JavaScript in your browser to complete this form.Name *FirstLastEmail *Workshop NameNUMBER AND ALPHABET GAMESINVESTIGATING NATURE OBSERVATION WALK : THE WORLD AROUND USEARLY CHILDHOOD ACTIVITIESHOLIDAYS ARE HAPPY DAYSCommentSubmit
URL:https://amazinglearning.com.au/event/observation-walk-the-world-around-us/
LOCATION:Arndell Park Community Centre\, 29 - 49 Federation Blvd\, Truganina\, Victoria\, Australia
ORGANIZER;CN="Amazing%20Lerning":MAILTO:amazinglearning.au@gmail.com
END:VEVENT
END:VCALENDAR